BEGIN:VCALENDAR
VERSION:2.0
PRODID:-//Sportsch&uuml;tzenverein &quot;Strahlenburg&quot; Schriesheim e.V. - ECPv6.15.20//NONSGML v1.0//EN
CALSCALE:GREGORIAN
METHOD:PUBLISH
X-WR-CALNAME:Sportsch&uuml;tzenverein &quot;Strahlenburg&quot; Schriesheim e.V.
X-ORIGINAL-URL:https://ssv-strahlenburg.de
X-WR-CALDESC:Veranstaltungen für Sportsch&uuml;tzenverein &quot;Strahlenburg&quot; Schriesheim e.V.
REFRESH-INTERVAL;VALUE=DURATION:PT1H
X-Robots-Tag:noindex
X-PUBLISHED-TTL:PT1H
BEGIN:VTIMEZONE
TZID:UTC
BEGIN:STANDARD
TZOFFSETFROM:+0000
TZOFFSETTO:+0000
TZNAME:UTC
DTSTART:20250101T000000
END:STANDARD
END:VTIMEZONE
BEGIN:VEVENT
DTSTART;TZID=UTC:20260516T100000
DTEND;TZID=UTC:20260516T190000
DTSTAMP:20260420T124249
CREATED:20260419T184902Z
LAST-MODIFIED:20260419T184902Z
UID:424-1778925600-1778958000@ssv-strahlenburg.de
SUMMARY:Dachlattenchallenge 2026
DESCRIPTION:Ausschreibung Dachlattenchallenge 2026
URL:https://ssv-strahlenburg.de/event/dachlattenchallenge-2026/
LOCATION:Sportschützenverein Strahlenburg Schriesheim e.V.
CATEGORIES:Interne Veranstaltung
ATTACH;FMTTYPE=application/pdf:https://ssv-strahlenburg.de/wp-content/uploads/2026/04/Dachlattenchallenge2026.pdf
ORGANIZER;CN="Sportsch%C3%BCtzenverein Strahlenburg Schriesheim e.V.":MAILTO:info@ssv-strahlenburg.de
END:VEVENT
END:VCALENDAR